BEGIN:VCALENDAR
VERSION:2.0
PRODID:-//North Sydney Brothers - ECPv5.0.1//NONSGML v1.0//EN
CALSCALE:GREGORIAN
METHOD:PUBLISH
X-WR-CALNAME:North Sydney Brothers
X-ORIGINAL-URL:https://nsbrothers.com.au
X-WR-CALDESC:Events for North Sydney Brothers
BEGIN:VTIMEZONE
TZID:Australia/Melbourne
BEGIN:STANDARD
TZOFFSETFROM:+1100
TZOFFSETTO:+1000
TZNAME:AEST
DTSTART:20200404T160000
END:STANDARD
BEGIN:DAYLIGHT
TZOFFSETFROM:+1000
TZOFFSETTO:+1100
TZNAME:AEDT
DTSTART:20201003T160000
END:DAYLIGHT
END:VTIMEZONE
BEGIN:VEVENT
DTSTART;TZID=Australia/Melbourne:20200303T160000
DTEND;TZID=Australia/Melbourne:20200303T170000
DTSTAMP:20200228T071625
CREATED:20200220T111348Z
LAST-MODIFIED:20200220T111914Z
UID:741-1583251200-1583254800@nsbrothers.com.au
SUMMARY:Come & Try Day
DESCRIPTION:COME & TRY DAY\nOn Tuesday 3 March 2020 come down to Tunks Park\, the home of the North Sydney Brothers for a free come & try clinic. \nSome of the many benefits of the Brothers club: \n\nFREE REGISTRATION for under 4s through to under 17s\nFREE access to NRL games\nPlaying shorts\, socks and jersey includes at no cost\nQualified coaches and sports trainers\, to help you develop your skills\nQualified referees\nPlayer insurance included\nGreat social and family oriented club\n\nNeed more information?  \nContact John on 0418 620 221 or nsbros@hotmail.com \n  \n
URL:https://nsbrothers.com.au/event/come-try-day/
LOCATION:Tunks Park\, Brothers Avenue\, Cammeray\, NSW\, 2062\, Australia
ATTACH;FMTTYPE=image/jpeg:https://nsbrothers.com.au/wp-content/uploads/2018/10/NSB_ComeTry_2020_Web_header-e1582197520850.jpg
ORGANIZER;CN="North%20Sydney%20Brothers%20JRLFC":MAILTO:nsbros@hotmail.com
END:VEVENT
END:VCALENDAR