BEGIN:VCALENDAR
VERSION:2.0
PRODID:-//North Sydney Brothers - ECPv5.3.2.1//NONSGML v1.0//EN
CALSCALE:GREGORIAN
METHOD:PUBLISH
X-WR-CALNAME:North Sydney Brothers
X-ORIGINAL-URL:https://nsbrothers.com.au
X-WR-CALDESC:Events for North Sydney Brothers
BEGIN:VTIMEZONE
TZID:Australia/Melbourne
BEGIN:STANDARD
TZOFFSETFROM:+1100
TZOFFSETTO:+1000
TZNAME:AEST
DTSTART:20200404T160000
END:STANDARD
BEGIN:DAYLIGHT
TZOFFSETFROM:+1000
TZOFFSETTO:+1100
TZNAME:AEDT
DTSTART:20201003T160000
END:DAYLIGHT
END:VTIMEZONE
BEGIN:VEVENT
DTSTART;VALUE=DATE:20200404
DTEND;VALUE=DATE:20200405
DTSTAMP:20210302T011918
CREATED:20181101T022947Z
LAST-MODIFIED:20200308T040741Z
UID:339-1585958400-1586044799@nsbrothers.com.au
SUMMARY:Junior League Round 1\, 2020
DESCRIPTION:Round 1\, 2020\nThe first round for the 2020 season will take place on Saturday 4 April 2020. We will update the events page of this site with the correct team and ground locations\, including instructions on what time players are expected to be at the ground.
URL:https://nsbrothers.com.au/event/round-1-2020-placeholder/
LOCATION:TBA\, Australia
CATEGORIES:Home
ATTACH;FMTTYPE=image/jpeg:https://nsbrothers.com.au/wp-content/uploads/2020/02/NSBROS.jpeg
END:VEVENT
END:VCALENDAR