BEGIN:VCALENDAR
VERSION:2.0
PRODID:-//North Sydney Brothers - ECPv5.3.2.1//NONSGML v1.0//EN
CALSCALE:GREGORIAN
METHOD:PUBLISH
X-WR-CALNAME:North Sydney Brothers
X-ORIGINAL-URL:https://nsbrothers.com.au
X-WR-CALDESC:Events for North Sydney Brothers
BEGIN:VTIMEZONE
TZID:Australia/Melbourne
BEGIN:STANDARD
TZOFFSETFROM:+1100
TZOFFSETTO:+1000
TZNAME:AEST
DTSTART:20200404T160000
END:STANDARD
BEGIN:DAYLIGHT
TZOFFSETFROM:+1000
TZOFFSETTO:+1100
TZNAME:AEDT
DTSTART:20201003T160000
END:DAYLIGHT
END:VTIMEZONE
BEGIN:VEVENT
DTSTART;TZID=Australia/Melbourne:20200501T130000
DTEND;TZID=Australia/Melbourne:20200501T150000
DTSTAMP:20210302T011953
CREATED:20200220T112629Z
LAST-MODIFIED:20200308T040911Z
UID:746-1588338000-1588345200@nsbrothers.com.au
SUMMARY:Blues Tag - Round 1\, 2020
DESCRIPTION:Come & Try BLUES TAG in 2020\nLaunched in 2019 a dedicated GIRLS TAG Rugby League competition in the North Sydney Junior League District. Learn all the skills of this fast paced\, highly skilled ball game based on Rugby League rules. Expressions of interest now open! \nCome & try and bring your friends at this non contact league tag for girls aged between 10 and 13 years old. \nGame Days: Saturday’s between 1pm & 3pm \nRound 1: Saturday 1st May 2020 \nIf you are interested in joining a North Sydney Brothers Girl League Team Team please contact: \nPH: 0418 620 221 \nEMAIL: nsbros@hotmail.com
URL:https://nsbrothers.com.au/event/blues-tag-round-1-2020/
ATTACH;FMTTYPE=image/jpeg:https://nsbrothers.com.au/wp-content/uploads/2020/02/blues-tag.jpeg
END:VEVENT
END:VCALENDAR